BEGIN:VCALENDAR
VERSION:2.0
PRODID:-//wp-events-plugin.com//6.6.3//EN
TZID:Europe/Berlin
X-WR-TIMEZONE:Europe/Berlin
BEGIN:VEVENT
UID:45@biostation-bonn-rheinerft.de
DTSTART;TZID=Europe/Berlin:20240614T150000
DTEND;TZID=Europe/Berlin:20240614T170000
DTSTAMP:20240209T133345Z
URL:https://www.biostation-bonn-rheinerft.de/events/becherlupenexkursion-f
 uer-kleine-naturforscherinnen-am-peringsmaar-in-bedburg/
SUMMARY:Becherlupenexkursion für kleine Naturforscher*innen am Peringsmaar
  in Bedburg
DESCRIPTION:Kommt mit auf einen Spaziergang\, bei dem wir die Welt der Inse
 kten genauer kennenlernen! Ausgestattet mit Keschern und Becherlupen erkun
 den wir Wegränder und Wiesen und erfahren mehr über das spannende Leben 
 von Wildbiene\, Schmetterling &amp\; Co.\n\nTreffpunkt: Parkplatz Peringsm
 aar an der L361\, Bedburg \,\n\nVeranstalter: Biologische Station Bonn / R
 hein-Erft\, M. Sc. Nick Krahnen (0228 2495 799)\; Anmeldung@Biostation-Bon
 n-Rheinerft.de\,\n\nWeitere Infos: 5 € pro Person\, Familien 10 €.\n\n
 Wegen begrenzter Teilnehmer*innenzahl Anmeldung erforderlich.\n\nAnmeldung
 @Biostation-Bonn-Rheinerft.de\n\nBei Regen fällt die Exkursion aus.
ATTACH;FMTTYPE=image/jpeg:https://www.biostation-bonn-rheinerft.de/wp-cont
 ent/uploads/Becherlupenexkursion1-e1756201063172.jpg
CATEGORIES:Führung
LOCATION:Parkplatz Peringsmaar an der L361\, Bedburg\, Parkplatz Peringsmaa
 r\, Bedburg \, Deutschland
GEO:50.99222;6.586967
X-APPLE-STRUCTURED-LOCATION;VALUE=URI;X-ADDRESS=Parkplatz Peringsmaar\, Bed
 burg \, Deutschland;X-APPLE-RADIUS=100;X-TITLE=Parkplatz Peringsmaar an de
 r L361\, Bedburg:geo:50.99222,6.586967
END:VEVENT
BEGIN:VTIMEZONE
TZID:Europe/Berlin
X-LIC-LOCATION:Europe/Berlin
BEGIN:DAYLIGHT
DTSTART:20240331T030000
TZOFFSETFROM:+0100
TZOFFSETTO:+0200
TZNAME:CEST
END:DAYLIGHT
END:VTIMEZONE
END:VCALENDAR