BEGIN:VCALENDAR
VERSION:2.0
PRODID:-//wp-events-plugin.com//6.6.3//EN
TZID:Europe/Berlin
X-WR-TIMEZONE:Europe/Berlin
BEGIN:VEVENT
UID:154@biostation-bonn-rheinerft.de
DTSTART;TZID=Europe/Berlin:20250815T203000
DTEND;TZID=Europe/Berlin:20250815T233000
DTSTAMP:20250704T090546Z
URL:https://www.biostation-bonn-rheinerft.de/events/geschoepfe-der-nacht-a
 ns-licht-gebracht-4/
SUMMARY:Geschöpfe der Nacht - ans Licht gebracht
DESCRIPTION:Fledermausexkursion im Kottenforst.\n\nTreffpunkt: Bonn-Röttge
 n\, Sackgassenende der Villiper Allee (am Waldrand)\n\nFührung: Dipl.-Bio
 l. Tom Wegner\n\nWeitere Infos: 5 € pro Person oder 10 € pro Familie. 
 Bitte Taschenlampen mitbringen. Auch für Rollstuhlfahrer geeignet. Fällt
  bei Regen aus.
ATTACH;FMTTYPE=image/jpeg:https://www.biostation-bonn-rheinerft.de/wp-cont
 ent/uploads/Fledermaus.jpg
CATEGORIES:Führung
END:VEVENT
BEGIN:VTIMEZONE
TZID:Europe/Berlin
X-LIC-LOCATION:Europe/Berlin
BEGIN:DAYLIGHT
DTSTART:20250330T030000
TZOFFSETFROM:+0100
TZOFFSETTO:+0200
TZNAME:CEST
END:DAYLIGHT
END:VTIMEZONE
END:VCALENDAR